BEGIN:VCALENDAR
PRODID:-//hacksw/handcal//NONSGML v1.0//EN
VERSION:2.0
METHOD:PUBLISH
BEGIN:VEVENT
DTSTART:20260610T220000Z
DTEND:20260611T000000Z
LOCATION:MC Hotel | 690 Bloomfield Ave, Montclair, NJ 07042
UID:2944620260610T220000ZEPCNNJ and Financial Planners Association of New Jersey Joint Networking Event!
DTSTAMP:20260421T123006Z
DESCRIPTION:\nEPCNNJ and the Financial Planning Association of New Jersey are teaming up for a joint networking night that brings both communities together for a fun evening. Connect with new colleagues, catch up with familiar faces, and enjoy a space that’s great for conversation and meeting new people. Guests welcome. We hope to see you there!\n
SUMMARY:EPCNNJ and Financial Planners Association of New Jersey Joint Networking Event! - Estate Planning Council of Northern New Jersey 
PRIORITY:3
BEGIN:VALARM
TRIGGER:PT18H
ACTION:DISPLAY
DESCRIPTION:Reminder
END:VALARM
END:VEVENT
END:VCALENDAR