BEGIN:VCALENDAR
PRODID:-//hacksw/handcal//NONSGML v1.0//EN
VERSION:2.0
METHOD:PUBLISH
BEGIN:VEVENT
DTSTART:20260513T213000Z
DTEND:20260514T001500Z
LOCATION:NY Jets Corporate Headquarters | 1 Jets Drive, Florham Park
UID:2931420260513T213000ZPlanning for the Young and Suddenly Wealthy. EPCNNJ Annual Meeting and 40 under 40
DTSTAMP:20260422T140420Z
DESCRIPTION:\nMEETING SPONSOR: Prudential\n \nSecurity at the venue is very strict.  You must register by Tuesday, May 5, 2026. No walk-ins will be admitted.\n \nTOPIC: Planning for the Young and Suddenly Wealthy\n \nThis presentation will explore the unique challenges when representing the young and successful “newly wealthy”, particularly sports figures.  Commentary will also include an exploration of the NIL (name, image and likeness) phenomenon and the challenges that this opportunity presents for young athletes. \n \n \n \n \nDrew Jacobs, Esq.    \n \nDrew is the founder of Jacobs Counsel, a boutique transactional law firm built from the ground up in the age of AI. Launched in 2022, the firm focuses on sports, entertainment, gaming, and technology, combining AIânative workflows with flexible pricing and the speed today’s fastâmoving industries demand. Jacobs Counsel advises clients on closing deals, protecting assets, and building longâterm legacies.\n \nDrew's practice spans startup founders scaling from first investment to exit; athletes navigating NIL, endorsements, and wealth preservation; creators monetizing intellectual property; gaming companies managing multiâstate compliance; and highâearning individuals and families focused on generational wealth. He also partners closely with financial advisors, CPAs, and wealth managers as outside counsel to their clients.\n \nBeyond his firm, Drew directs the Seton Hall University Gaming Law Bootcamp and has been recognized as a 2026 Super Lawyers Rising Star in Entertainment and Sports Law.\n \nBeginning at 5:30pm -  before our regular networking begins  - our “$40 Under 40” guests and their member-sponsors are invited to a complimentary open-bar cocktail party.    \n
SUMMARY:Planning for the Young and Suddenly Wealthy. EPCNNJ Annual Meeting and 40 under 40 - Estate Planning Council of Northern New Jersey 
PRIORITY:3
BEGIN:VALARM
TRIGGER:PT18H
ACTION:DISPLAY
DESCRIPTION:Reminder
END:VALARM
END:VEVENT
END:VCALENDAR